BEGIN:VCALENDAR
VERSION:2.0
PRODID:-//Métanat&#039; - ECPv6.2.0.1//NONSGML v1.0//EN
CALSCALE:GREGORIAN
METHOD:PUBLISH
X-ORIGINAL-URL:https://metanat.fr
X-WR-CALDESC:évènements pour Métanat&#039;
REFRESH-INTERVAL;VALUE=DURATION:PT1H
X-Robots-Tag:noindex
X-PUBLISHED-TTL:PT1H
BEGIN:VTIMEZONE
TZID:Europe/Paris
BEGIN:DAYLIGHT
TZOFFSETFROM:+0100
TZOFFSETTO:+0200
TZNAME:CEST
DTSTART:20230326T010000
END:DAYLIGHT
BEGIN:STANDARD
TZOFFSETFROM:+0200
TZOFFSETTO:+0100
TZNAME:CET
DTSTART:20231029T010000
END:STANDARD
END:VTIMEZONE
BEGIN:VEVENT
DTSTART;TZID=Europe/Paris:20230227T093000
DTEND;TZID=Europe/Paris:20230315T170000
DTSTAMP:20260419T191435
CREATED:20220720T121551Z
LAST-MODIFIED:20230124T100938Z
UID:9304-1677490200-1678899600@metanat.fr
SUMMARY:Spécialisation professionnelle en accompagnement périnatal holistique
DESCRIPTION:Nous sommes désolés\, cette session de formation n’est plus disponible. \nUne formation courte / spécialisation professionnelle pour compléter\nsa pratique\, ses aptitudes et ses connaissances et proposer un accompagnement périnatal holistique : \nCOMPRENDRE LA PHYSIOLOGIE \nApprendre la physiologie de chaque étape périnatale\, connaître et comprendre les différents troubles rencontrés. \nAPPROCHE NATURELLE PAR LA NATUROPATHIE \nPréserver ou rétablir la physiologie avec la naturopathie. Maîtriser les outils naturels disponibles\, leurs posologies et contre-indications. \nSPÉCIFIQUE EN PÉRINATALITÉ \nProposer une prise en charge globale : désir de conception\, fertilité/infertilité\, grossesse\, enfantement (accouchement)\, post partum\, allaitement… et avoir une visualisation entière de l’expérience de la maternité et parentalité dans ses accompagnements. \nPOSTURE THÉRAPEUTIQUE \nRegarder son histoire personnelle avec humilité pour la mettre à distance et accompagner avec justesse. Améliorer sa posture thérapeutique et être un.e allié.e dans cette période clef de la vie. \n\nCette formation se déroule en semaine\, sur 2 modules indissociables de 3 jours à 15 jours d’intervalle. \n\n\nProgramme complet\, modalités : cliquez ici pour consulter\n \nBilletterie : \nVente de billets en ligne
URL:https://metanat.fr/evenement/specialisation-professionnelle-en-accompagnement-perinatal-holistique/
LOCATION:La maison de l’éveil\, Nantes\, 106 Rue Gambetta\, Nantes\, 44000\, France
CATEGORIES:Formation
ATTACH;FMTTYPE=image/jpeg:https://metanat.fr/wp-content/uploads/2022/07/254129867_443780360592257_3415888069783084478_n-scaled.jpg
END:VEVENT
BEGIN:VEVENT
DTSTART;TZID=Europe/Paris:20230313T100000
DTEND;TZID=Europe/Paris:20230313T170000
DTSTAMP:20260419T191435
CREATED:20220720T111522Z
LAST-MODIFIED:20230306T124827Z
UID:9292-1678701600-1678726800@metanat.fr
SUMMARY:Outils pour optimiser ses consultations
DESCRIPTION:  \nLa consultation en santé naturelle ou en naturopathie requiert un cadre\, un temps et une méthode particuliers pour recueillir l’ensemble des informations de la personne qui consulte. En effet\, l’approche causaliste\, holistique\, et humoriste pour accompagner la santé globale demande un soin particulier dans le type de questions\, la manière de les poser\, comment les utiliser\, etc. Il peut être utile de prévoir des outils spécifiques pour organiser ses contenus\, justifier sa démarche\, travailler sur la relation de confiance\, etc. \nCe TD s’adresse en priorité aux professionnels (en formation\, en installation ou installés) qui proposent ou souhaitent proposer des consultations. On y aborde les réalités d’un planning\, des étapes de consultation\, la prise de note\, les ressources utilisables\, … \nIl encadre aussi la création de ressources pour faciliter ses anamnèses et s’organiser en cabinet (ou en consultation à domicile/sur site) par le groupe présent et la mutualisation des documents réalisés avec les compétences de chacun.
URL:https://metanat.fr/evenement/outils-pour-optimiser-ses-consultations/
LOCATION:Cabinet Jehanneuf – Bernard à Ancenis\, 65 rue de Charost\, Ancenis\, 44150\, France
CATEGORIES:Travaux dirigés
ATTACH;FMTTYPE=image/jpeg:https://metanat.fr/wp-content/uploads/2022/07/questionnaire.jpg
END:VEVENT
END:VCALENDAR